Workbook

Sheet 1.Ap
A1: 東京千代田日本語学校 入学願書（履歴書） Application for admission and personal history
E3: Family name, Given name, Middle name (if any)
A5: 1 氏名 | W5: （漢字表記 | AB5: ）
B6: Full name (as in Passport) | U6: Chinese characters if any
A8: 2 国籍 | M8: 3 生年月日 | U8: 年 | X8: 月 | AA8: 日
B9: Nationality / Region | N9: Date of birth | U9: Year | X9: Month | AA9: Day
A11: 4 性別 | E11: □ | F11: 男 | G11: ／ | H11: □ | I11: 女 | M11: 5 配偶者の有無 | T11: □ | U11: 有 | V11: ／ | W11: □ | X11: 無
B12: Sex | F12: Male | I12: Female | N12: Marital status | U12: Married | X12: Single
A14: 6 出生地 | X14: 7 職業
B15: Place of birth | Y15: Occupation
A17: 8 戸籍住所
B18: Permanent address
A20: 9 現住所
B21: Present address
A23: 10 電話番号 | S23: 11 E-mail
B24: Telephone No. | T24: E-mail
A26: 12 旅券 | F26: 番号 | S26: 有効期限 | Z26: 年 | AC26: 月 | AF26: 日
B27: Passport | F27: Number | S27: Date of expiration | Z27: Year | AC27: Month | AF27: Day
A29: 13 家族 Family members
A30: 国籍 | D30: 氏名 | L30: 生年月日 | P30: 職業 | T30: 住所 | AG30: 続柄
A31: Nationality | D31: Name | L31: Date of birth | P31: Occupation | T31: Address | AG31: Relationship
A47: 14 学歴 （小学校から最終学歴まで） Educational history (Elementary school onward, ascending order)
A48: 学校名 | L48: 入学年月 | P48: 卒業年月 | T48: 住所 | AG48: 学校種別
A49: Name of school | L49: Date of admission | P49: Date of graduation | T49: Address | AG49: School type
AG50: 小学校 Elementary
AG52: 中学校 Junior high
AG54: 高等学校 High
A63: 15 職歴・兵役 Work history / Military service | AJ63: 古い順 Ascending order
A64: 勤務先 | L64: 開始年月 | P64: 終了年月 | T64: 住所
A65: Name of company | L65: Start date | P65: End date | T65: Address
A75: 16 日本語学習歴 Japanese language study history | AJ75: 古い順 Ascending order
A76: 機関名 | L76: 開始年月 | P76: 終了年月 | T76: 住所
A77: Name of organization | L77: Start date | P77: End date | T77: Address
A85: 17 日本語認証試験 Japanese language examination
A86: 試験名称 | L86: 試験日 | P86: 級 | T86: 試験結果または点数
A87: Name of examination | L87: Date of exam | P87: Exam level | T87: Exam result or score
A93: 18 就学理由 Purpose of study, and plan after graduation from Japanese language school | AB93: □ | AC93: 別紙 See attachment
A112: 19 修了後の予定 Plan after graduation
K114: □ | L114: 大学院
L115: Graduate school
...

Sheet 1.smp
A1: 東京千代田日本語学校 入学願書（履歴書） Application for admission and personal history
E3: Family name, Given name, Middle name (if any)
E4: SATO SHINZO | X4: 佐藤 晋三
A5: 1 氏名 | W5: （漢字表記 | AB5: ）
B6: Full name (as in Passport) | U6: Chinese characters if any
E7: Japan | R7: 1999 | V7: 9 | Y7: 21
A8: 2 国籍 | M8: 3 生年月日 | U8: 年 | X8: 月 | AA8: 日
B9: Nationality / Region | N9: Date of birth | U9: Year | X9: Month | AA9: Day
A11: 4 性別 | E11: ■ | F11: 男 | G11: ／ | H11: □ | I11: 女 | M11: 5 配偶者の有無 | T11: □ | U11: 有 | V11: ／ | W11: ■ | X11: 無
B12: Sex | F12: Male | I12: Female | N12: Marital status | U12: Married | X12: Single
F13: Kanda Konyacho, Chiyoda-ku, Tokyo | AB13: Preparing for study abroad
A14: 6 出生地 | X14: 7 職業
B15: Place of birth | Y15: Occupation
F16: 13 Kanda Konyacho, Chiyoda-ku, Tokyo
A17: 8 戸籍住所
B18: Permanent address
F19: 13 Kanda Konyacho, Chiyoda-ku, Tokyo
A20: 9 現住所
B21: Present address
F22: +81-90-1234-5678 | W22: info@tokyo-cjls.com
A23: 10 電話番号 | S23: 11 E-mail
B24: Telephone No. | T24: E-mail
H25: AB123456789 | W25: 2030 | AA25: 6 | AD25: 30
A26: 12 旅券 | F26: 番号 | S26: 有効期限 | Z26: 年 | AC26: 月 | AF26: 日
B27: Passport | F27: Number | S27: Date of expiration | Z27: Year | AC27: Month | AF27: Day
A29: 13 家族 Family members
A30: 国籍 | D30: 氏名 | L30: 生年月日 | P30: 職業 | T30: 住所 | AG30: 続柄
A31: Nationality | D31: Name | L31: Date of birth | P31: Occupation | T31: Address | AG31: Relationship
A32: Japan | D32: SATO SHINTARO | L32: 25569 | P32: Business owner | T32: 13 Kanda Konyacho, Chiyoda-ku, Tokyo | AG32: Father
A34: Japan | D34: SATO YOKO | L34: 27753 | P34: Housewife | T34: 13 Kanda Konyacho, Chiyoda-ku, Tokyo | AG34: Mother
A36: Japan | D36: SATO HIRONOBU | L36: 35246 | P36: Office worker | T36: 13 Kanda Konyacho, Chiyoda-ku, Tokyo | AG36: Brother
A38: Japan | D38: KISHIDA NOBUO | L38: 36617 | P38: Student | T38: 2-2 Ueno, Taito-ku, Tokyo | AG38: Brother
A47: 14 学歴 （小学校から最終学歴まで） Educational history (Elementary school onward, ascending order)
A48: 学校名 | L48: 入学年月 | P48: 卒業年月 | T48: 住所 | AG48: 学校種別
A49: Name of school | L49: Date of admission | P49: Date of graduation | T49: Address | AG49: School type
A50: Taito Elementary School | L50: 38808 | P50: 40969 | T50: 1-1 Ueno, Taito-ku, Tokyo | AG50: 小学校 Elementary
A52: Chiyoda Junior High School | L52: 41000 | P52: 42064 | T52: 13 Kanda Konyacho, Chiyoda-ku, Tokyo | AG52: 中学校 Junior high
A54: Chiyoda High School | L54: 42095 | P54: 43160 | T54: 13 Kanda Konyacho, Chiyoda-ku, Tokyo | AG54: 高等学校 High
A56: Hongo University | L56: 43191 | P56: 44621 | T56: 7-3-1 Hongo, Bunkyo-ku, Tokyo | AG56: 大学 University/College
A63: 15 職歴・兵役 Work history / Military service | AJ63: 古い順 Ascending order
...

Sheet 2.Ap
A1: 東京千代田日本語学校 入学願書 (2) Application for admission (2)
E4: =IF('1.Ap'!E4="","",TRIM('1.Ap'!E4))
A5: 申請者氏名
A6: Name of applicant
A8: ■在日親族（父・母・配偶者・子・兄弟姉妹・祖父母・おじ・おばなど）及び同居者
A9: Family in Japan (father, mother, spouse, children, siblings, grandparents, uncle, aunt and others) and anyone you live or will live with
A10: 国籍 | D10: 氏名 | L10: 生年月日 | P10: 続柄 | T10: 勤務先名称・通学先名称 | AB10: 在留カード番号 | AG10: 同居予定の有無
A11: Nationality | D11: Name | L11: Date of birth | P11: Relationship | T11: Name of company/school | AB11: Residence card number | AG11: Will live together
A21: ■経費支弁者 Sponsor for tuition fee and living expenses
A23: (1)氏名 | X23: (2)申請者との関係
B24: Name of sponsor | Y24: Relationship with applicant
A26: (3)国籍 | O26: (4)生年月日 | W26: 年 | Z26: 月 | AC26: 日
B27: Nationality / Region | O27: Date of birth | V27: Year | Y27: Month | AB27: Day
A29: (5)戸籍住所
B30: Permanent address
A32: (6)現住所
B33: Present address
A35: (7)電話番号 | T35: (8)職業
B36: Telephone No. | U36: Occupation
A38: (9)勤務先名 | T38: (10)役職
B39: Company name | U39: Position in Company
A41: (11)勤務先住所
B42: Company address
A44: (12)勤務先電話 | S44: (13)事業内容
B45: Company telephone No. | T45: Type of business
A47: (14)年収 | R47: ※無職の場合の残高金額
B48: Annual income | H48: Amount | L48: Currency | R48: Bank balance (if unemployed) | AD48: Amount | AH48: Currency
A51: ※上記職業以外に収入がある場合の内容と金額
A52: Source and amount of any income other than the above occupation.
A56: 以上の記載内容は事実と相違ありません。 I hereby declare that the statement given above is true and correct.
A59: 申請者署名 | V59: ／ | W59: 作成日 | AC59: 年 | AF59: 月 | AI59: 日
A60: Signature of applicant | W60: Date of preparation | AC60: Year | AF60: Month | AI60: Day

Sheet 2.smp
A1: 東京千代田日本語学校 入学願書 (2) Application for admission (2)
E4: =IF('1.smp'!E4="","",TRIM('1.smp'!E4)) -> SATO SHINZO
A5: 申請者氏名
A6: Name of applicant
A8: ■在日親族（父・母・配偶者・子・兄弟姉妹・祖父母・おじ・おばなど）及び同居者
A9: Family in Japan (father, mother, spouse, children, siblings, grandparents, uncle, aunt and others) and anyone you live or will live with
A10: 国籍 | D10: 氏名 | L10: 生年月日 | P10: 続柄 | T10: 勤務先名称・通学先名称 | AB10: 在留カード番号 | AG10: 同居予定の有無
A11: Nationality | D11: Name | L11: Date of birth | P11: Relationship | T11: Name of company/school | AB11: Residence card number | AG11: Will live together
A12: Japan | D12: ABE EISAKU | L12: 27210 | P12: Uncle | T12: Kyoto Corporation | AB12: AB87654321CD | AG12: 無/No
A14: Japan | D14: ABE SHINJI | L14: 36372 | P14: Cousin | T14: Tokyo University | AB14: AB12345678CD | AG14: 有/Yes
A21: ■経費支弁者 Sponsor for tuition fee and living expenses
F22: SATO SHINTARO | AD22: Father
A23: (1)氏名 | X23: (2)申請者との関係
B24: Name of sponsor | Y24: Relationship with applicant
F25: Japan | T25: 1970 | X25: 1 | AA25: 1
A26: (3)国籍 | O26: (4)生年月日 | W26: 年 | Z26: 月 | AC26: 日
B27: Nationality / Region | O27: Date of birth | V27: Year | Y27: Month | AB27: Day
F28: 13 Kanda Konyacho, Chiyoda-ku, Tokyo
A29: (5)戸籍住所
B30: Permanent address
F31: 13 Kanda Konyacho, Chiyoda-ku, Tokyo
A32: (6)現住所
B33: Present address
F34: +81-90-1234-1234 | X34: Business owner
A35: (7)電話番号 | T35: (8)職業
B36: Telephone No. | U36: Occupation
F37: Chiyoda Corporation | X37: Owner
A38: (9)勤務先名 | T38: (10)役職
B39: Company name | U39: Position in Company
F40: 13 Kanda Konyacho, Chiyoda-ku, Tokyo
A41: (11)勤務先住所
B42: Company address
F43: +81-3-6789-6789 | X43: Manufacture of automotive parts
A44: (12)勤務先電話 | S44: (13)事業内容
B45: Company telephone No. | T45: Type of business
F46: 30000 | L46: USD
A47: (14)年収 | R47: ※無職の場合の残高金額
B48: Annual income | H48: Amount | L48: Currency | R48: Bank balance (if unemployed) | AD48: Amount | AH48: Currency
P50: Real estate rent income 10,000 USD per year
A51: ※上記職業以外に収入がある場合の内容と金額
...

Sheet 3.Sponsor
A1: 経 費 支 弁 書
A2: Letter of Financial Support
A4: 日本国法務大臣 殿
A5: To the Minister of Justice of Japan
E7: =IF('1.Ap'!E7="","",'1.Ap'!E7)
A8: 国籍 | V8: 性別 | Z8: ='1.Ap'!E11 -> □ | AA8: 男 | AB8: ／ | AC8: ='1.Ap'!H11 -> □ | AD8: 女
A9: Nationality / Region | V9: Sex | AA9: Male | AD9: Female
E10: =IF('1.Ap'!E4="","",TRIM('1.Ap'!E4)) | Z10: =IF('1.Ap'!R7="","",'1.Ap'!R7) | AD10: =IF('1.Ap'!V7="","",'1.Ap'!V7) | AG10: =IF('1.Ap'!Y7="","",'1.Ap'!Y7)
A11: 申請者氏名 | V11: 生年月日 | AC11: 年 | AF11: 月 | AI11: 日
A12: Name of applicant | V12: Date of birth | AC12: Year | AF12: Month | AI12: Day
A14: 私は、このたび上記の者が日本国に（在留中・入国した場合）の経費支弁者になりましたので、下記のとおり経費支弁の引き受け経緯を説明するとともに経費支弁について証明します。
A16: I have become the financial sponsor of the above applicant during his/her stay in Japan and therefore I would like to explain the reason for support and make the following statement:
A19: 記 Details
A21: 1 経費支弁の引き受け経緯（申請者の経費支弁を引受けた経緯及び申請者との関係について具体的に記載してください）
B22: Reason for being a financial sponsor (Please explain clearly the reason for financially supporting the applicant and the relationship with the applicant.)
A29: 2 経費支弁内容 Content of support
B31: 私は、上記の者の日本国滞在について、下記のとおり経費支弁することを証明します。また、上記の者が在留期間更新許可申請の際には、送金証明書又は本人名義の預金通帳（送金事実、経費支弁事実が記載されたもの）の写し等で、生活費等の支弁事実を明らかにする書類を提出します。
B34: I hereby certify that I will financially support the above applicant during his/her stay in Japan as stated below. When the applicant applies for an extension of his/her period of stay, I will submit documents proving that his/her living expenses are being supported, such as a copy of a certificate of remittance or of a bankbook in his/her name showing the remittances or support provided.
I37: 775000 | AB37: 80000
B38: (1) 学費 | G38: 年間 | P38: 円 | T38: (2) 生活費 | Z38: 月額 | AI38: 円
C39: Tuition fee | G39: Annual | P39: Yen | U39: Living expenses | Z39: Monthly | AI39: Yen
B41: (3) 支弁方法 Method of support
C42: Tuition fees will be transferred to the school's bank account by the payment deadline. The applicant will bring funds for several months of living expenses. After that, living expenses will be transferred to the applicant's bank account.
A48: 経費支弁者 Sponsor
D49: =IF('2.Ap'!F31="","",'2.Ap'!F31) | AA49: =IF('2.Ap'!F34="","",'2.Ap'!F34)
A50: 住所 | W50: 電話番号
A51: Address | W51: Telephone No.
D52: =IF('2.Ap'!F22="","",TRIM('2.Ap'!F22)) | AC52: =IF('2.Ap'!AD22="","",'2.Ap'!AD22)
A53: 氏名 | W53: 申請者との関係
A54: Name of sponsor | W54: Relationship with applicant
A58: 経費支弁者署名 | V58: ／ | W58: 作成日 | AC58: 年 | AF58: 月 | AI58: 日
A59: Signature of sponsor | W59: Date of preparation | AC59: Year | AF59: Month | AI59: Day

Sheet 3.smp
A1: 経 費 支 弁 書
A2: Letter of Financial Support
A4: 日本国法務大臣 殿
A5: To the Minister of Justice of Japan
E7: =IF('1.smp'!E7="","",'1.smp'!E7) -> Japan
A8: 国籍 | V8: 性別 | Z8: ='1.smp'!E11 -> ■ | AA8: 男 | AB8: ／ | AC8: ='1.smp'!H11 -> □ | AD8: 女
A9: Nationality / Region | V9: Sex | AA9: Male | AD9: Female
E10: =IF('1.smp'!E4="","",TRIM('1.smp'!E4)) -> SATO SHINZO | Z10: =IF('1.smp'!R7="","",'1.smp'!R7) -> 1999 | AD10: =IF('1.smp'!V7="","",'1.smp'!V7) -> 9 | AG10: =IF('1.smp'!Y7="","",'1.smp'!Y7) -> 21
A11: 申請者氏名 | V11: 生年月日 | AC11: 年 | AF11: 月 | AI11: 日
A12: Name of applicant | V12: Date of birth | AC12: Year | AF12: Month | AI12: Day
A14: 私は、このたび上記の者が日本国に（在留中・入国した場合）の経費支弁者になりましたので、下記のとおり経費支弁の引き受け経緯を説明するとともに経費支弁について証明します。
A16: I have become the financial sponsor of the above applicant during his/her stay in Japan and therefore I would like to explain the reason for support and make the following statement:
A19: 記 Details
A21: 1 経費支弁の引き受け経緯（申請者の経費支弁を引受けた経緯及び申請者との関係について具体的に記載してください）
B22: Reason for being a financial sponsor (Please explain clearly the reason for financially supporting the applicant and the relationship with the applicant.)
B24: As a parent, it is important to support my children for their studies and dreams. Therefore I will fully support the expenses for my child while studying in Japan.
A29: 2 経費支弁内容 Content of support
B31: 私は、上記の者の日本国滞在について、下記のとおり経費支弁することを証明します。また、上記の者が在留期間更新許可申請の際には、送金証明書又は本人名義の預金通帳（送金事実、経費支弁事実が記載されたもの）の写し等で、生活費等の支弁事実を明らかにする書類を提出します。
B34: I hereby certify that I will financially support the above applicant during his/her stay in Japan as stated below. When the applicant applies for an extension of his/her period of stay, I will submit documents proving that his/her living expenses are being supported, such as a copy of a certificate of remittance or of a bankbook in his/her name showing the remittances or support provided.
I37: 775000 | AB37: 80000
B38: (1) 学費 | G38: 年間 | P38: 円 | T38: (2) 生活費 | Z38: 月額 | AI38: 円
C39: Tuition fee | G39: Annual | P39: Yen | U39: Living expenses | Z39: Monthly | AI39: Yen
B41: (3) 支弁方法 Method of support
C42: Tuition fees will be transferred to the school's bank account by the payment deadline. The applicant will bring funds for several months of living expenses. After that, living expenses will be transferred to the applicant's bank account.
A48: 経費支弁者 Sponsor
D49: =IF('2.smp'!F31="","",'2.smp'!F31) -> 13 Kanda Konyacho, Chiyoda-ku, Tokyo | AA49: =IF('2.smp'!F34="","",'2.smp'!F34) -> +81-90-1234-1234
A50: 住所 | W50: 電話番号
A51: Address | W51: Telephone No.
D52: =IF('2.smp'!F22="","",TRIM('2.smp'!F22)) -> SATO SHINTARO | AC52: =IF('2.smp'!AD22="","",'2.smp'!AD22) -> Father
A53: 氏名 | W53: 申請者との関係
A54: Name of sponsor | W54: Relationship with applicant
Z57: 2026 | AD57: 10 | AG57: 1
A58: 経費支弁者署名 | V58: ／ | W58: 作成日 | AC58: 年 | AF58: 月 | AI58: 日
A59: Signature of sponsor | W59: Date of preparation | AC59: Year | AF59: Month | AI59: Day

Sheet 4.Sponsor(JP)
A1: 経費支弁書の日本語訳
A2: Letter of Financial Support (Japanese translation)
E5: =IF('1.Ap'!E4="","",TRIM('1.Ap'!E4))
A6: 申請者氏名
A7: Name of applicant
A11: 1 経費支弁の引き受け経緯（申請者の経費支弁を引受けた経緯及び申請者との関係について具体的に記載してください）
B12: Reason for being a financial sponsor (Please explain clearly the reason for financially supporting the applicant and the relationship with the applicant.)
A21: 2 経費支弁内容 Content of support
B23: (3) 支弁方法 Method of support
C24: 学費は所定の納入期限までに学校の銀行口座へ送金します。 生活費は数か月分を申請者が持参し、その後は申請者の銀行口座へ送金します。
G31: =IF('2.Ap'!F22="","",TRIM('2.Ap'!F22))
A32: 経費支弁者氏名
A33: Name of sponsor

Sheet 4.smp
A1: 経費支弁書の日本語訳
A2: Letter of Financial Support (Japanese translation)
E5: =IF('1.smp'!E4="","",TRIM('1.smp'!E4)) -> SATO SHINZO
A6: 申請者氏名
A7: Name of applicant
A11: 1 経費支弁の引き受け経緯（申請者の経費支弁を引受けた経緯及び申請者との関係について具体的に記載してください）
B12: Reason for being a financial sponsor (Please explain clearly the reason for financially supporting the applicant and the relationship with the applicant.)
B14: 親として子供の勉強や夢を応援することは大切なことです。そのため、私は子供が日本に留学する間の費用を全面的に支援いたします。
A21: 2 経費支弁内容 Content of support
B23: (3) 支弁方法 Method of support
C24: 学費は所定の納入期限までに学校の銀行口座へ送金します。 生活費は数か月分を申請者が持参し、その後は申請者の銀行口座へ送金します。
G31: =IF('2.smp'!F22="","",TRIM('2.smp'!F22)) -> SATO SHINTARO
A32: 経費支弁者氏名
A33: Name of sponsor

Sheet 5.Pledge
A1: 誓 約 書
A2: Letter of Pledge
A4: 東京千代田日本語学校長 殿
A5: To: Principal, Tokyo Chiyoda Japanese Language School
E7: =IF('1.Ap'!E7="","",'1.Ap'!E7)
A8: 国籍 | V8: 性別 | Z8: ='1.Ap'!E11 -> □ | AA8: 男 | AB8: ／ | AC8: ='1.Ap'!H11 -> □ | AD8: 女
A9: Nationality / Region | V9: Sex | AA9: Male | AD9: Female
E10: =IF('1.Ap'!E4="","",TRIM('1.Ap'!E4)) | Z10: =IF('1.Ap'!R7="","",'1.Ap'!R7) | AD10: =IF('1.Ap'!V7="","",'1.Ap'!V7) | AG10: =IF('1.Ap'!Y7="","",'1.Ap'!Y7)
A11: 申請者氏名 | V11: 生年月日 | AC11: 年 | AF11: 月 | AI11: 日
A12: Name of applicant | V12: Date of birth | AC12: Year | AF12: Month | AI12: Day
A15: 私は、貴校に入学するにあたり、以下の事項を誓約します。違反した場合は、いかなる処分も受け入れることをここに誓います。
A17: I hereby pledge to abide by the following conditions upon enrolling in your school. If I violate any of these conditions, I agree to accept any disciplinary action.
A20: 1 | B20: 日本の法律と規則を遵守し、在留資格で認められた活動以外の活動を行いません。
B21: I will comply with the laws and regulations of Japan and will not engage in any activities beyond those permitted by my status of residence.
A25: 2 | B25: 学校の規則を守り、学業に専念します。出席率を常に90%以上に維持します。
B26: I will follow the school's rules and dedicate myself to my studies. I will maintain an attendance rate of 90% or higher at all times.
A29: 3 | B29: 日本滞在中の学費・生活費等の全費用について、経費支弁者と共に全責任を持ち、貴校に一切迷惑をかけません。
B31: I will bear full responsibility, together with my financial sponsor, for all expenses incurred during my stay in Japan, including tuition and living costs, and will not cause any inconvenience to the school.
A35: 4 | B35: 無許可・違法なアルバイトはせず、アルバイト情報はすべて学校に報告します。
B36: I will not engage in any part-time job without permission or illegally, and I will report all information regarding part-time jobs to the school.
A40: 5 | B40: コース途中での自己都合による退学、もしくは学校の指導による退学・除籍の際は、すでに納入した学費の返金を求めません。
B42: I will not request a refund of tuition fees already paid if I withdraw from the course for personal reasons, or if I am required to withdraw or am expelled by the school.
A46: 6 | B46: 退学、除籍、在留期間更新不許可、在留資格変更不許可の場合、指定期間内に帰国します。
B47: In the event of withdrawal, expulsion, or denial of an extension or change of my status of residence, I will return to my home country within the specified period.
A52: 申請者署名 | V52: ／ | W52: 作成日 | AC52: 年 | AF52: 月 | AI52: 日
A53: Signature of applicant | W53: Date of preparation | AC53: Year | AF53: Month | AI53: Day
A55: （保証人）
A56: 経費支弁者署名 | V56: ／ | W56: 作成日 | AC56: 年 | AF56: 月 | AI56: 日
A57: Signature of sponsor (guarantor) | W57: Date of preparation | AC57: Year | AF57: Month | AI57: Day
